BEGIN:VCALENDAR
VERSION:2.0
PRODID:-//Prairie to Pine Regional Council - ECPv6.15.20//NONSGML v1.0//EN
CALSCALE:GREGORIAN
METHOD:PUBLISH
X-WR-CALNAME:Prairie to Pine Regional Council
X-ORIGINAL-URL:https://prairietopinerc.ca
X-WR-CALDESC:Events for Prairie to Pine Regional Council
REFRESH-INTERVAL;VALUE=DURATION:PT1H
X-Robots-Tag:noindex
X-PUBLISHED-TTL:PT1H
BEGIN:VTIMEZONE
TZID:America/Winnipeg
BEGIN:DAYLIGHT
TZOFFSETFROM:-0600
TZOFFSETTO:-0500
TZNAME:CDT
DTSTART:20250309T080000
END:DAYLIGHT
BEGIN:STANDARD
TZOFFSETFROM:-0500
TZOFFSETTO:-0600
TZNAME:CST
DTSTART:20251102T070000
END:STANDARD
BEGIN:DAYLIGHT
TZOFFSETFROM:-0600
TZOFFSETTO:-0500
TZNAME:CDT
DTSTART:20260308T080000
END:DAYLIGHT
BEGIN:STANDARD
TZOFFSETFROM:-0500
TZOFFSETTO:-0600
TZNAME:CST
DTSTART:20261101T070000
END:STANDARD
BEGIN:DAYLIGHT
TZOFFSETFROM:-0600
TZOFFSETTO:-0500
TZNAME:CDT
DTSTART:20270314T080000
END:DAYLIGHT
BEGIN:STANDARD
TZOFFSETFROM:-0500
TZOFFSETTO:-0600
TZNAME:CST
DTSTART:20271107T070000
END:STANDARD
END:VTIMEZONE
BEGIN:VEVENT
DTSTART;TZID=America/Winnipeg:20260417T080000
DTEND;TZID=America/Winnipeg:20260417T170000
DTSTAMP:20260422T064013
CREATED:20260225T174459Z
LAST-MODIFIED:20260225T174459Z
UID:10002165-1776412800-1776445200@prairietopinerc.ca
SUMMARY:Caught In The Act Co. Dinner Theatre
DESCRIPTION:Get ready to set sail on an adventure filled with mystery\, suspense and a little love triangle romance when the 13th Annual Caught in the Act Dinner Theatre presented by Transcona Memorial United Church (209 Yale Ave W) launches Nothing But the Truth April 17\, 18 & 19 and April 25 & 26. \nTickets are on sale now! Dinner theatre tickets are only $55 each ($20 tax receipt) and include a delicious meal and entertaining performance! For more information on tickets and the production\, visit tmuc.ca/dinner-theatre. Sea you soon! \nPlay written by Philip J. Anderson and produced by special arrangement with PIONEER DRAMA SERVICE. Denver\, Colorado
URL:https://prairietopinerc.ca/event/caught-in-the-act-co-dinner-theatre/2026-04-17/
LOCATION:Transcona Memorial United Church\, 209 Yale Ave W.\, Winnipeg\, Manitoba\, R2C 1T9\, Canada
CATEGORIES:Community of Faith Events calendar,Events
ATTACH;FMTTYPE=image/jpeg:https://prairietopinerc.ca/wp-content/uploads/2026/02/2026-General-Poster-FINAL.pdf.jpg
END:VEVENT
BEGIN:VEVENT
DTSTART;TZID=America/Winnipeg:20260417T190000
DTEND;TZID=America/Winnipeg:20260417T210000
DTSTAMP:20260422T064013
CREATED:20260227T041920Z
LAST-MODIFIED:20260227T041920Z
UID:10002171-1776452400-1776459600@prairietopinerc.ca
SUMMARY:Traveling Youth Group
DESCRIPTION:Spring Forward with us on April 17th!!! \nJoin us at Westworth United Church to celebrate the new season with creation. Come play games\, paint flower pots and plant flowers\, Eat snacks and worship with us. \nTheme: Spring Forward\nWhen: Friday April 17th 7-9pm\nWhere: Westworth United Church (1750 Grosvenor Ave)\nWho: Grade 6 -12 \nhttps://docs.google.com/forms/d/e/1FAIpQLScbH5IPhNxAlTe3OBkL3dsKjOXaCTltMZjLxRW3ImZOCvQFUw/viewform?usp=sharing&ouid=101976910218737943195
URL:https://prairietopinerc.ca/event/traveling-youth-group-5/
LOCATION:Westworth United Church\, 1750 Grosvenor Avenue\, Winnipeg\, Manitoba\, R3N 0H9\, Canada
CATEGORIES:Community of Faith Events calendar,Events,Young Adults and Youth
ATTACH;FMTTYPE=image/png:https://prairietopinerc.ca/wp-content/uploads/2026/02/April-TYG-2026-Poster.png
END:VEVENT
END:VCALENDAR