BEGIN:VCALENDAR
VERSION:2.0
PRODID:-//Prairie to Pine Regional Council - ECPv6.15.20//NONSGML v1.0//EN
CALSCALE:GREGORIAN
METHOD:PUBLISH
X-ORIGINAL-URL:https://prairietopinerc.ca
X-WR-CALDESC:Events for Prairie to Pine Regional Council
REFRESH-INTERVAL;VALUE=DURATION:PT1H
X-Robots-Tag:noindex
X-PUBLISHED-TTL:PT1H
BEGIN:VTIMEZONE
TZID:America/Winnipeg
BEGIN:DAYLIGHT
TZOFFSETFROM:-0600
TZOFFSETTO:-0500
TZNAME:CDT
DTSTART:20250309T080000
END:DAYLIGHT
BEGIN:STANDARD
TZOFFSETFROM:-0500
TZOFFSETTO:-0600
TZNAME:CST
DTSTART:20251102T070000
END:STANDARD
BEGIN:DAYLIGHT
TZOFFSETFROM:-0600
TZOFFSETTO:-0500
TZNAME:CDT
DTSTART:20260308T080000
END:DAYLIGHT
BEGIN:STANDARD
TZOFFSETFROM:-0500
TZOFFSETTO:-0600
TZNAME:CST
DTSTART:20261101T070000
END:STANDARD
BEGIN:DAYLIGHT
TZOFFSETFROM:-0600
TZOFFSETTO:-0500
TZNAME:CDT
DTSTART:20270314T080000
END:DAYLIGHT
BEGIN:STANDARD
TZOFFSETFROM:-0500
TZOFFSETTO:-0600
TZNAME:CST
DTSTART:20271107T070000
END:STANDARD
END:VTIMEZONE
BEGIN:VEVENT
DTSTART;VALUE=DATE:20260118
DTEND;VALUE=DATE:20260126
DTSTAMP:20260422T143619
CREATED:20251211T014122Z
LAST-MODIFIED:20251211T014122Z
UID:10002068-1768694400-1769385599@prairietopinerc.ca
SUMMARY:Week of Prayer for Christian Unity
DESCRIPTION:Week of Prayer for Christian Unity 2026 – Free resources available now “There is one body and one Spirit\, just as you were called to the one hope of your calling” (Eph 4:4). Download the entire kit\, including the International theme materials\, and special resources developed for Canada\, found here. The WPCU is traditionally observed from January 18 to 25. Weekofprayer.ca is a project of the Canadian Council of Churches\, the Prairie Centre for Ecumenism\, and the Centre canadien d’oecuménisme.
URL:https://prairietopinerc.ca/event/week-of-prayer-for-christian-unity-2/
LOCATION:MB
CATEGORIES:Events,Regional
END:VEVENT
END:VCALENDAR