BEGIN:VCALENDAR
VERSION:2.0
PRODID:-//Prairie to Pine Regional Council - ECPv6.15.20//NONSGML v1.0//EN
CALSCALE:GREGORIAN
METHOD:PUBLISH
X-ORIGINAL-URL:https://prairietopinerc.ca
X-WR-CALDESC:Events for Prairie to Pine Regional Council
REFRESH-INTERVAL;VALUE=DURATION:PT1H
X-Robots-Tag:noindex
X-PUBLISHED-TTL:PT1H
BEGIN:VTIMEZONE
TZID:America/Winnipeg
BEGIN:DAYLIGHT
TZOFFSETFROM:-0600
TZOFFSETTO:-0500
TZNAME:CDT
DTSTART:20240310T080000
END:DAYLIGHT
BEGIN:STANDARD
TZOFFSETFROM:-0500
TZOFFSETTO:-0600
TZNAME:CST
DTSTART:20241103T070000
END:STANDARD
BEGIN:DAYLIGHT
TZOFFSETFROM:-0600
TZOFFSETTO:-0500
TZNAME:CDT
DTSTART:20250309T080000
END:DAYLIGHT
BEGIN:STANDARD
TZOFFSETFROM:-0500
TZOFFSETTO:-0600
TZNAME:CST
DTSTART:20251102T070000
END:STANDARD
BEGIN:DAYLIGHT
TZOFFSETFROM:-0600
TZOFFSETTO:-0500
TZNAME:CDT
DTSTART:20260308T080000
END:DAYLIGHT
BEGIN:STANDARD
TZOFFSETFROM:-0500
TZOFFSETTO:-0600
TZNAME:CST
DTSTART:20261101T070000
END:STANDARD
END:VTIMEZONE
BEGIN:VEVENT
DTSTART;TZID=America/Winnipeg:20251228T100000
DTEND;TZID=America/Winnipeg:20251228T120000
DTSTAMP:20260424T035209
CREATED:20251211T045737Z
LAST-MODIFIED:20251211T045737Z
UID:10002148-1766916000-1766923200@prairietopinerc.ca
SUMMARY:Release of Covenant Service- Rev. Doug Neufeld and the Communities of Faith at Trinity United Church\, Brandon and Forrest United Church
DESCRIPTION:Reverend Doug Neufeld and the Communities of Faith at Trinity United Church\, Brandon and Forrest United Church will gather on December 28\, 2025\, at 10:00 a.m. at Trinity United Church (1515 6th Street\, Brandon)\, for a release of Covenant Service.
URL:https://prairietopinerc.ca/event/release-of-covenant-service-rev-doug-neufeld-and-the-communities-of-faith-at-trinity-united-church-brandon-and-forrest-united-church/
LOCATION:Trinity United Church-Brandon\, 1515-6th Street\, Brandon\, Manitoba\, R7A 6B3\, Canada
CATEGORIES:Community of Faith Events calendar,Events
END:VEVENT
END:VCALENDAR