BEGIN:VCALENDAR
VERSION:2.0
PRODID:-//Prairie to Pine Regional Council - ECPv6.15.20//NONSGML v1.0//EN
CALSCALE:GREGORIAN
METHOD:PUBLISH
X-WR-CALNAME:Prairie to Pine Regional Council
X-ORIGINAL-URL:https://prairietopinerc.ca
X-WR-CALDESC:Events for Prairie to Pine Regional Council
REFRESH-INTERVAL;VALUE=DURATION:PT1H
X-Robots-Tag:noindex
X-PUBLISHED-TTL:PT1H
BEGIN:VTIMEZONE
TZID:America/Winnipeg
BEGIN:DAYLIGHT
TZOFFSETFROM:-0600
TZOFFSETTO:-0500
TZNAME:CDT
DTSTART:20240310T080000
END:DAYLIGHT
BEGIN:STANDARD
TZOFFSETFROM:-0500
TZOFFSETTO:-0600
TZNAME:CST
DTSTART:20241103T070000
END:STANDARD
BEGIN:DAYLIGHT
TZOFFSETFROM:-0600
TZOFFSETTO:-0500
TZNAME:CDT
DTSTART:20250309T080000
END:DAYLIGHT
BEGIN:STANDARD
TZOFFSETFROM:-0500
TZOFFSETTO:-0600
TZNAME:CST
DTSTART:20251102T070000
END:STANDARD
BEGIN:DAYLIGHT
TZOFFSETFROM:-0600
TZOFFSETTO:-0500
TZNAME:CDT
DTSTART:20260308T080000
END:DAYLIGHT
BEGIN:STANDARD
TZOFFSETFROM:-0500
TZOFFSETTO:-0600
TZNAME:CST
DTSTART:20261101T070000
END:STANDARD
END:VTIMEZONE
BEGIN:VEVENT
DTSTART;TZID=America/Winnipeg:20251207T063000
DTEND;TZID=America/Winnipeg:20251207T193000
DTSTAMP:20260422T151410
CREATED:20251118T003450Z
LAST-MODIFIED:20251118T003543Z
UID:10002056-1765089000-1765135800@prairietopinerc.ca
SUMMARY:Cookies and Carols
DESCRIPTION:Come Learn about the Legend of the Candy Cane! Join us for our annual cookies and\nCarols celebration. Sing your favorite Christmas carols\, create candy cane crafts and\ndecorate and enjoy Christmas cookies with your hot chocolate or tea.\nWhere: The United Church in Meadowood\, 1111 Dakota St.\nWhen: Sunday\, December 6 th 6:30pm-7:30pm\nRegister: ucim.org
URL:https://prairietopinerc.ca/event/cookies-and-carols/
LOCATION:United Church in Meadowood\, 1111 Dakota St\, Winnipeg\, MB\, R2N3T7\, Canada
CATEGORIES:Community of Faith Events calendar,Events
ATTACH;FMTTYPE=image/png:https://prairietopinerc.ca/wp-content/uploads/2025/11/Cookies-Carols-POSTER-letter-Dec-2025-.png
END:VEVENT
BEGIN:VEVENT
DTSTART;TZID=America/Winnipeg:20251207T103000
DTEND;TZID=America/Winnipeg:20251207T123000
DTSTAMP:20260422T151410
CREATED:20251119T205547Z
LAST-MODIFIED:20251119T205547Z
UID:10002060-1765103400-1765110600@prairietopinerc.ca
SUMMARY:75th Anniversary Kick Off
DESCRIPTION:December 7\, 2025\n75th Kickoff in recognition of December 10th\, 1950\nCoffee & Anniversary Cake after Church\nwith special guest cake cutters &\na photo memory walk
URL:https://prairietopinerc.ca/event/75th-anniversary-kick-off/
LOCATION:Westworth United Church\, 1750 Grosvenor Avenue\, Winnipeg\, Manitoba\, R3N 0H9\, Canada
CATEGORIES:Community of Faith Events calendar,Events
ATTACH;FMTTYPE=image/png:https://prairietopinerc.ca/wp-content/uploads/2025/11/·75th-Kickoff-in-recognition-of-December-10th-1950-Coffee-Anniversary-Cake-after-Church-with-special-guest-cake-cutters.png
ORGANIZER;CN="Westworth United Church":MAILTO:office@westworth.ca
END:VEVENT
BEGIN:VEVENT
DTSTART;TZID=America/Winnipeg:20251207T183000
DTEND;TZID=America/Winnipeg:20251207T193000
DTSTAMP:20260422T151410
CREATED:20251120T203557Z
LAST-MODIFIED:20251120T203557Z
UID:10002061-1765132200-1765135800@prairietopinerc.ca
SUMMARY:Cookies and Carols
DESCRIPTION:December 7th 6:30-7:30pm. Join us for an evening of carols\, crafts and cookie decorating as we learn about “The Legend of the Candy Cane” This event is suitable for all ages. Registration can be found on our website ucim.org
URL:https://prairietopinerc.ca/event/cookies-and-carols-2/
LOCATION:United Church in Meadowood\, 1111 Dakota St\, Winnipeg\, MB\, R2N3T7\, Canada
CATEGORIES:Community of Faith Events calendar,Events
ATTACH;FMTTYPE=image/png:https://prairietopinerc.ca/wp-content/uploads/2025/11/Cookies-Carols-Dec-2025-QN.png
END:VEVENT
BEGIN:VEVENT
DTSTART;TZID=America/Winnipeg:20251207T190000
DTEND;TZID=America/Winnipeg:20251207T213000
DTSTAMP:20260422T151410
CREATED:20251112T000424Z
LAST-MODIFIED:20251112T000424Z
UID:10002051-1765134000-1765143000@prairietopinerc.ca
SUMMARY:Messiah Queered
DESCRIPTION:Several organizations including Steinbach United Church are partnering to put on a 2SLGBTQ+ holiday concert\, Messiah Queered!\nCome for a night of music and community as Handel’s beloved oratorio\, “The Messiah” is performed. Messiah Queered is a sing-a-long performance that specifically welcomes the 2SLGBTQ+ community and allies. The vocal soloists and choir have the option of singing any part that suits their voice and spirit. \nMessiah Queered is an inclusive sing-a-long for all! Guests are welcome to sing-a-long or just listen & enjoy. December 5th at 7pm at St. Mark’s Lutheran Church in Winnipeg\, and December 7th at 7pm at Grace Mennonite Church in Steinbach. Tickets start at just $10 at manitobamobilemusic.ca.\nSteinbach concert: https://www.eventbrite.com/e/messiah-queered-steinbach-tickets-1907984124879?aff=erelpanelorg\nWinnipeg concert: https://www.eventbrite.com/e/messiah-queered-winnipeg-tickets-1907805891779?aff=oddtdtcreator
URL:https://prairietopinerc.ca/event/messiah-queered-2/
LOCATION:Grace Mennonite Church\, 430 Third Street\, Steinbach\, Manitoba\, Canada
CATEGORIES:Community of Faith Events calendar,Events
ATTACH;FMTTYPE=image/png:https://prairietopinerc.ca/wp-content/uploads/2025/11/Messiah-Queered-Poster.png
ORGANIZER;CN="Manitoba Mobile Music/Steinbach Neighbours for Community":MAILTO:manitobamobilemusic@gmail.com
END:VEVENT
END:VCALENDAR