BEGIN:VCALENDAR
VERSION:2.0
PRODID:-//Prairie to Pine Regional Council - ECPv6.15.20//NONSGML v1.0//EN
CALSCALE:GREGORIAN
METHOD:PUBLISH
X-ORIGINAL-URL:https://prairietopinerc.ca
X-WR-CALDESC:Events for Prairie to Pine Regional Council
REFRESH-INTERVAL;VALUE=DURATION:PT1H
X-Robots-Tag:noindex
X-PUBLISHED-TTL:PT1H
BEGIN:VTIMEZONE
TZID:America/Winnipeg
BEGIN:DAYLIGHT
TZOFFSETFROM:-0600
TZOFFSETTO:-0500
TZNAME:CDT
DTSTART:20240310T080000
END:DAYLIGHT
BEGIN:STANDARD
TZOFFSETFROM:-0500
TZOFFSETTO:-0600
TZNAME:CST
DTSTART:20241103T070000
END:STANDARD
BEGIN:DAYLIGHT
TZOFFSETFROM:-0600
TZOFFSETTO:-0500
TZNAME:CDT
DTSTART:20250309T080000
END:DAYLIGHT
BEGIN:STANDARD
TZOFFSETFROM:-0500
TZOFFSETTO:-0600
TZNAME:CST
DTSTART:20251102T070000
END:STANDARD
BEGIN:DAYLIGHT
TZOFFSETFROM:-0600
TZOFFSETTO:-0500
TZNAME:CDT
DTSTART:20260308T080000
END:DAYLIGHT
BEGIN:STANDARD
TZOFFSETFROM:-0500
TZOFFSETTO:-0600
TZNAME:CST
DTSTART:20261101T070000
END:STANDARD
END:VTIMEZONE
BEGIN:VEVENT
DTSTART;TZID=America/Winnipeg:20251113T190000
DTEND;TZID=America/Winnipeg:20251113T210000
DTSTAMP:20260424T085002
CREATED:20251016T160058Z
LAST-MODIFIED:20251108T024821Z
UID:10002036-1763060400-1763067600@prairietopinerc.ca
SUMMARY:Prairie to Pine Online Regional Meeting
DESCRIPTION:The meeting will be held on November 13 at 7:00 PM (CST) via Zoom. Please join by 6:50 PM. We will open the room at 6:30 PM for anyone who wants some Zoom support. \nPlease click here for the registration form and submit it no later than November 7\, 2025. If you experience any issues with the online registration form or prefer to complete it over the phone\, please get in touch with Cherry Abad at (204) 594-8381 or cabad@united-church.ca. Zoom information will be sent to those who registered by the deadline date. \nAccountability reports and other documents can be found on the Regional Council Meeting page. Please continue to check this page for more updates.
URL:https://prairietopinerc.ca/event/prairie-to-pine-online-regional-meeting/
LOCATION:via Zoom
CATEGORIES:Community of Faith Events calendar,Events,Regional
ATTACH;FMTTYPE=image/png:https://prairietopinerc.ca/wp-content/uploads/2025/10/2025-AGM-banner.png
END:VEVENT
END:VCALENDAR