BEGIN:VCALENDAR
VERSION:2.0
PRODID:-//Prairie to Pine Regional Council - ECPv6.15.20//NONSGML v1.0//EN
CALSCALE:GREGORIAN
METHOD:PUBLISH
X-ORIGINAL-URL:https://prairietopinerc.ca
X-WR-CALDESC:Events for Prairie to Pine Regional Council
REFRESH-INTERVAL;VALUE=DURATION:PT1H
X-Robots-Tag:noindex
X-PUBLISHED-TTL:PT1H
BEGIN:VTIMEZONE
TZID:America/Winnipeg
BEGIN:DAYLIGHT
TZOFFSETFROM:-0600
TZOFFSETTO:-0500
TZNAME:CDT
DTSTART:20240310T080000
END:DAYLIGHT
BEGIN:STANDARD
TZOFFSETFROM:-0500
TZOFFSETTO:-0600
TZNAME:CST
DTSTART:20241103T070000
END:STANDARD
BEGIN:DAYLIGHT
TZOFFSETFROM:-0600
TZOFFSETTO:-0500
TZNAME:CDT
DTSTART:20250309T080000
END:DAYLIGHT
BEGIN:STANDARD
TZOFFSETFROM:-0500
TZOFFSETTO:-0600
TZNAME:CST
DTSTART:20251102T070000
END:STANDARD
BEGIN:DAYLIGHT
TZOFFSETFROM:-0600
TZOFFSETTO:-0500
TZNAME:CDT
DTSTART:20260308T080000
END:DAYLIGHT
BEGIN:STANDARD
TZOFFSETFROM:-0500
TZOFFSETTO:-0600
TZNAME:CST
DTSTART:20261101T070000
END:STANDARD
END:VTIMEZONE
BEGIN:VEVENT
DTSTART;TZID=America/Winnipeg:20251106T140000
DTEND;TZID=America/Winnipeg:20251106T153000
DTSTAMP:20260424T085011
CREATED:20251022T211814Z
LAST-MODIFIED:20251022T211814Z
UID:10002042-1762437600-1762443000@prairietopinerc.ca
SUMMARY:Book Conversation with Past-Moderator Carmen Landsdowne
DESCRIPTION:Join Carmen as she discusses her new book\, Wearing a Broken Indigene Heart on the Sleeve of Christian Mission. \nA member of Haíłzaqv (Heiltsuk) First Nation and an ordained minister in The United Church of Canada\, Lansdowne explores how we might understand Christian mission in order to transform the relationship between Indigenous peoples and the church\, and transform the church itself. She seeks to answer the question: If Indigenous hearts are broken by Christianity\, can Christian theology be life giving at all? \n“In this long awaited book\, Lansdowne gives us her broken heart. An unwavering\nindigenous and unapologetic Christian heart. From a deep Indigenous knowledge\, she\noffers a dialogue that will demand changes. But that is the only way to start healing\nwounds that were opened more than 500 years ago. How desperately we need her\nvoice!”—Cláudio Carvalhaes\, Union Theological Seminary\, New York City
URL:https://prairietopinerc.ca/event/book-conversation-with-past-moderator-carmen-landsdowne/
LOCATION:United Church in Meadowood\, 1111 Dakota St\, Winnipeg\, MB\, R2N3T7\, Canada
CATEGORIES:Community of Faith Events calendar,Events
ATTACH;FMTTYPE=image/png:https://prairietopinerc.ca/wp-content/uploads/2025/10/Carmen-Landsdowne-Book-Event.png
END:VEVENT
END:VCALENDAR