BEGIN:VCALENDAR
VERSION:2.0
PRODID:-//Prairie to Pine Regional Council - ECPv6.15.20//NONSGML v1.0//EN
CALSCALE:GREGORIAN
METHOD:PUBLISH
X-WR-CALNAME:Prairie to Pine Regional Council
X-ORIGINAL-URL:https://prairietopinerc.ca
X-WR-CALDESC:Events for Prairie to Pine Regional Council
REFRESH-INTERVAL;VALUE=DURATION:PT1H
X-Robots-Tag:noindex
X-PUBLISHED-TTL:PT1H
BEGIN:VTIMEZONE
TZID:America/Winnipeg
BEGIN:DAYLIGHT
TZOFFSETFROM:-0600
TZOFFSETTO:-0500
TZNAME:CDT
DTSTART:20240310T080000
END:DAYLIGHT
BEGIN:STANDARD
TZOFFSETFROM:-0500
TZOFFSETTO:-0600
TZNAME:CST
DTSTART:20241103T070000
END:STANDARD
BEGIN:DAYLIGHT
TZOFFSETFROM:-0600
TZOFFSETTO:-0500
TZNAME:CDT
DTSTART:20250309T080000
END:DAYLIGHT
BEGIN:STANDARD
TZOFFSETFROM:-0500
TZOFFSETTO:-0600
TZNAME:CST
DTSTART:20251102T070000
END:STANDARD
BEGIN:DAYLIGHT
TZOFFSETFROM:-0600
TZOFFSETTO:-0500
TZNAME:CDT
DTSTART:20260308T080000
END:DAYLIGHT
BEGIN:STANDARD
TZOFFSETFROM:-0500
TZOFFSETTO:-0600
TZNAME:CST
DTSTART:20261101T070000
END:STANDARD
END:VTIMEZONE
BEGIN:VEVENT
DTSTART;TZID=America/Winnipeg:20250925T093000
DTEND;TZID=America/Winnipeg:20250925T123000
DTSTAMP:20260424T115246
CREATED:20230823T015149Z
LAST-MODIFIED:20230823T015149Z
UID:10000742-1758792600-1758803400@prairietopinerc.ca
SUMMARY:Committee on Community of Faith Support
DESCRIPTION:The Committee on Community of Faith Support is holding its regular meeting via Zoom every fourth Thursday of the month.
URL:https://prairietopinerc.ca/event/committee-on-community-of-faith-support/2025-09-25/
CATEGORIES:Events,Regional
END:VEVENT
BEGIN:VEVENT
DTSTART;TZID=America/Winnipeg:20250925T133000
DTEND;TZID=America/Winnipeg:20250925T150000
DTSTAMP:20260424T115246
CREATED:20250905T181441Z
LAST-MODIFIED:20250915T220545Z
UID:10001888-1758807000-1758812400@prairietopinerc.ca
SUMMARY:Lunch time Intercultural Coffee Chai series: Stories and Narratives: God-Talks from Diasporic Filipino Ministers in the United Church of Canada
DESCRIPTION:Lunch time Intercultural Coffee Chai series: Stories and Narratives: God-Talks from Diasporic Filipino Ministers in the United Church of Canada\, Thursday\, Sept 25\, 2025\, 12:30pm MDT and CST/1:30pm CDT (90 minutes). Bring your lunch and join us as we resume the Western Intercultural Ministries Network 100th Anniversary series honouring ethno-cultural communities within the United Church. The Filipino Ministers Network in The United Church of Canada invites you to join them for a panel discussion about seeking God in the midst of every-day life. In the Philippines\, theologizing is embodied in everyday life; not seen as a separate religious category or exercise. Faith grows out of our lived experience: life-stories\, turning points\, crises and celebrations. God is active in shaping our everyday decision-making. Please see and share all the details!
URL:https://prairietopinerc.ca/event/lunch-time-intercultural-coffee-chai-series-stories-and-narratives-god-talks-from-diasporic-filipino-ministers-in-the-united-church-of-canada/
LOCATION:Zoom
CATEGORIES:Events,Regional
END:VEVENT
END:VCALENDAR