BEGIN:VCALENDAR
VERSION:2.0
PRODID:-//Prairie to Pine Regional Council - ECPv6.15.20//NONSGML v1.0//EN
CALSCALE:GREGORIAN
METHOD:PUBLISH
X-ORIGINAL-URL:https://prairietopinerc.ca
X-WR-CALDESC:Events for Prairie to Pine Regional Council
REFRESH-INTERVAL;VALUE=DURATION:PT1H
X-Robots-Tag:noindex
X-PUBLISHED-TTL:PT1H
BEGIN:VTIMEZONE
TZID:America/Winnipeg
BEGIN:DAYLIGHT
TZOFFSETFROM:-0600
TZOFFSETTO:-0500
TZNAME:CDT
DTSTART:20240310T080000
END:DAYLIGHT
BEGIN:STANDARD
TZOFFSETFROM:-0500
TZOFFSETTO:-0600
TZNAME:CST
DTSTART:20241103T070000
END:STANDARD
BEGIN:DAYLIGHT
TZOFFSETFROM:-0600
TZOFFSETTO:-0500
TZNAME:CDT
DTSTART:20250309T080000
END:DAYLIGHT
BEGIN:STANDARD
TZOFFSETFROM:-0500
TZOFFSETTO:-0600
TZNAME:CST
DTSTART:20251102T070000
END:STANDARD
BEGIN:DAYLIGHT
TZOFFSETFROM:-0600
TZOFFSETTO:-0500
TZNAME:CDT
DTSTART:20260308T080000
END:DAYLIGHT
BEGIN:STANDARD
TZOFFSETFROM:-0500
TZOFFSETTO:-0600
TZNAME:CST
DTSTART:20261101T070000
END:STANDARD
END:VTIMEZONE
BEGIN:VEVENT
DTSTART;TZID=America/Winnipeg:20250917T080000
DTEND;TZID=America/Winnipeg:20250917T170000
DTSTAMP:20260424T115332
CREATED:20250917T163001Z
LAST-MODIFIED:20250917T175430Z
UID:10001955-1758096000-1758128400@prairietopinerc.ca
SUMMARY:Sing for Peace
DESCRIPTION:Peace Concert\nIn the 1960s\, as war raged in Vietnam\, people around the world raised their voices in protest — and in song. From “Where Have All the Flowers Gone” to countless others\, the music of the peace movement gave hope and strength to millions.\nToday\, conflict still haunts many corners of our world — in Ukraine\, Syria\, Sudan\, Gaza and Israel\, Pakistan and India\, and Korea.\nLet us gather once again in the spirit of peace.\nCome and raise your voice with us at St. Paul’s Anglican Church.\nSing for peace. Sing for hope. Sing for change. \nThis event is co-hosted by Fort Garry United Church.
URL:https://prairietopinerc.ca/event/sing-for-peace/
LOCATION:St. Paul’s Anglican Unietd Church\, 830 North Dr\, Winnipeg\, Manitoba\, R3T 0A6\, Canada
CATEGORIES:Community of Faith Events calendar,Events
ORGANIZER;CN="Mavis Allison":MAILTO:wasagawomensweekend@gmail.com
END:VEVENT
BEGIN:VEVENT
DTSTART;TZID=America/Winnipeg:20250917T140000
DTEND;TZID=America/Winnipeg:20250917T150000
DTSTAMP:20260424T115332
CREATED:20250905T180848Z
LAST-MODIFIED:20250905T181104Z
UID:10001628-1758117600-1758121200@prairietopinerc.ca
SUMMARY:Online Bible Study with Jordan Cantwell
DESCRIPTION:Every Wednesday at 1 pm (SK time) \nDeep conversation \nSpiritual friendships \nFaith exploration \nNew participants always welcome! \nContact jcantwell@united-church.ca for more information. \nClick here to join:  https://bit.ly/41Vh93V
URL:https://prairietopinerc.ca/event/online-bible-study-with-jordan-cantwell/2025-09-17/
LOCATION:Online
CATEGORIES:Community of Faith Events calendar,Events,Regional
END:VEVENT
END:VCALENDAR