BEGIN:VCALENDAR
VERSION:2.0
PRODID:-//Prairie to Pine Regional Council - ECPv6.15.20//NONSGML v1.0//EN
CALSCALE:GREGORIAN
METHOD:PUBLISH
X-WR-CALNAME:Prairie to Pine Regional Council
X-ORIGINAL-URL:https://prairietopinerc.ca
X-WR-CALDESC:Events for Prairie to Pine Regional Council
REFRESH-INTERVAL;VALUE=DURATION:PT1H
X-Robots-Tag:noindex
X-PUBLISHED-TTL:PT1H
BEGIN:VTIMEZONE
TZID:America/Winnipeg
BEGIN:DAYLIGHT
TZOFFSETFROM:-0600
TZOFFSETTO:-0500
TZNAME:CDT
DTSTART:20240310T080000
END:DAYLIGHT
BEGIN:STANDARD
TZOFFSETFROM:-0500
TZOFFSETTO:-0600
TZNAME:CST
DTSTART:20241103T070000
END:STANDARD
BEGIN:DAYLIGHT
TZOFFSETFROM:-0600
TZOFFSETTO:-0500
TZNAME:CDT
DTSTART:20250309T080000
END:DAYLIGHT
BEGIN:STANDARD
TZOFFSETFROM:-0500
TZOFFSETTO:-0600
TZNAME:CST
DTSTART:20251102T070000
END:STANDARD
BEGIN:DAYLIGHT
TZOFFSETFROM:-0600
TZOFFSETTO:-0500
TZNAME:CDT
DTSTART:20260308T080000
END:DAYLIGHT
BEGIN:STANDARD
TZOFFSETFROM:-0500
TZOFFSETTO:-0600
TZNAME:CST
DTSTART:20261101T070000
END:STANDARD
END:VTIMEZONE
BEGIN:VEVENT
DTSTART;TZID=America/Winnipeg:20250912T190000
DTEND;TZID=America/Winnipeg:20250914T120000
DTSTAMP:20260424T115249
CREATED:20250902T171920Z
LAST-MODIFIED:20250902T171920Z
UID:10001618-1757703600-1757851200@prairietopinerc.ca
SUMMARY:Youth Leadership Retreat
DESCRIPTION:Leadership Event\nfor Future Leaders wanting to pursue Leadership Roles\nFriday Sept 12th to Sunday Sept 14th\, 2025 \nChurchill Park United Church\n525 Beresford Ave. Winnipeg\, MB \nWhile the ALF Planning Team is meeting\, future leaders will gather in the same building to learn leadership skills. They will join in a YAAY meeting\, plan and lead a Travelling Youth Group that other children and youth will attend Saturday evening\, and participate in worship on Sunday morning. \nTo make it both a good learning environment and a manageable event for our hosts\, SPACE IS LIMITED so YOUTH be sure to click on the blue button below ASAP to let us know if you’re interested.
URL:https://prairietopinerc.ca/event/youth-leadership-retreat/
LOCATION:Churchill Park United Church\, 525 Beresford Ave\, Winnipeg\, Manitoba\, R3L 1J4\, Canada
CATEGORIES:Community of Faith Events calendar,Events,Regional,Young Adults and Youth
ATTACH;FMTTYPE=image/jpeg:https://prairietopinerc.ca/wp-content/uploads/2025/08/Leadership-Event-2025.jpg
END:VEVENT
BEGIN:VEVENT
DTSTART;TZID=America/Winnipeg:20250913T100000
DTEND;TZID=America/Winnipeg:20250914T153000
DTSTAMP:20260424T115249
CREATED:20250814T170610Z
LAST-MODIFIED:20250814T170610Z
UID:10001614-1757757600-1757863800@prairietopinerc.ca
SUMMARY:Singing for Mass Connection
DESCRIPTION:Melanie DeMore\, internationally known vocal activist\, is coming to Winnipeg to lead a 2-day singing workshop at the Ukrainian Labour Temple on the weekend of Sept. 13-14. Melanie\, a 3-time Grammy nominee\, composer\, and choral conductor\, excels at bringing people together in these divisive times to connect through the joy of singing. For details and registration go to  www.community-works.ca.  Music for Life (Winnipeg) is offering a number of FREE SPOTS in the workshop for low income youth/students aged 10-29. Call 204-255-1131 for information.
URL:https://prairietopinerc.ca/event/singing-for-mass-connection/
LOCATION:Ukrainian Labour Temple\, 591 Pritchard Avenue\, Winnipeg\, Manitoba\, Canada
CATEGORIES:Community of Faith Events calendar,Events
ATTACH;FMTTYPE=image/png:https://prairietopinerc.ca/wp-content/uploads/2025/08/Weekend-workshop-with-Melanie-DeMore.png
END:VEVENT
BEGIN:VEVENT
DTSTART;TZID=America/Winnipeg:20250914T120000
DTEND;TZID=America/Winnipeg:20250914T160000
DTSTAMP:20260424T115249
CREATED:20250903T230334Z
LAST-MODIFIED:20250903T230847Z
UID:10001623-1757851200-1757865600@prairietopinerc.ca
SUMMARY:We Are All Treaty People public gathering 2025
DESCRIPTION:Join us at the We Are All Treaty People Celebration on September 14 from 1:00 to 4:00 at the Forks Centre Field.  This is an afternoon of music and dance by Indigenous and non-Indigenous performers\, information about our Treaty Relationship\, arts and crafts\, free food and drinks\, family friendly games and fun. A Pipe and Water ceremony will start at 12 noon followed by performances and activities from 1-4 pm at The Forks’ Centre Field. \nWe also welcome volunteers! Volunteer tasks include serving food\, children’s activity tables like puppet making\, supporting vendors\, setup and take down. A full outline of various roles that need filling is available on request.  Our committee appreciates any offer of volunteering for this annual event. Contact Carol Dyck\, member of WAATP planning committee\,  cjdyck365@gmail.com  or ph/text:  431-279-6554 \nThis event is organized by the Mennonite Central Committee\, the Anglican Diocese of Rupert’s Land\, the Winnipeg Quakers and the United Church\, in partnership with the Treaty Relations Commission of Manitoba.   The Prairie to Pine region is a funder of this event.
URL:https://prairietopinerc.ca/event/we-are-all-treaty-people-public-gathering-2025/
LOCATION:The Forks National Historic Site\, Canada
CATEGORIES:Community of Faith Events calendar,Intercultural,Right Relations
ATTACH;FMTTYPE=image/jpeg:https://prairietopinerc.ca/wp-content/uploads/2025/09/2025-WAATP-event-poster-scaled.jpg
END:VEVENT
END:VCALENDAR