BEGIN:VCALENDAR
VERSION:2.0
PRODID:-//Prairie to Pine Regional Council - ECPv6.15.20//NONSGML v1.0//EN
CALSCALE:GREGORIAN
METHOD:PUBLISH
X-WR-CALNAME:Prairie to Pine Regional Council
X-ORIGINAL-URL:https://prairietopinerc.ca
X-WR-CALDESC:Events for Prairie to Pine Regional Council
REFRESH-INTERVAL;VALUE=DURATION:PT1H
X-Robots-Tag:noindex
X-PUBLISHED-TTL:PT1H
BEGIN:VTIMEZONE
TZID:America/Winnipeg
BEGIN:DAYLIGHT
TZOFFSETFROM:-0600
TZOFFSETTO:-0500
TZNAME:CDT
DTSTART:20240310T080000
END:DAYLIGHT
BEGIN:STANDARD
TZOFFSETFROM:-0500
TZOFFSETTO:-0600
TZNAME:CST
DTSTART:20241103T070000
END:STANDARD
BEGIN:DAYLIGHT
TZOFFSETFROM:-0600
TZOFFSETTO:-0500
TZNAME:CDT
DTSTART:20250309T080000
END:DAYLIGHT
BEGIN:STANDARD
TZOFFSETFROM:-0500
TZOFFSETTO:-0600
TZNAME:CST
DTSTART:20251102T070000
END:STANDARD
BEGIN:DAYLIGHT
TZOFFSETFROM:-0600
TZOFFSETTO:-0500
TZNAME:CDT
DTSTART:20260308T080000
END:DAYLIGHT
BEGIN:STANDARD
TZOFFSETFROM:-0500
TZOFFSETTO:-0600
TZNAME:CST
DTSTART:20261101T070000
END:STANDARD
END:VTIMEZONE
BEGIN:VEVENT
DTSTART;TZID=America/Winnipeg:20250910T140000
DTEND;TZID=America/Winnipeg:20250910T150000
DTSTAMP:20260424T115249
CREATED:20250905T180848Z
LAST-MODIFIED:20250905T181104Z
UID:10001627-1757512800-1757516400@prairietopinerc.ca
SUMMARY:Online Bible Study with Jordan Cantwell
DESCRIPTION:Every Wednesday at 1 pm (SK time) \nDeep conversation \nSpiritual friendships \nFaith exploration \nNew participants always welcome! \nContact jcantwell@united-church.ca for more information. \nClick here to join:  https://bit.ly/41Vh93V
URL:https://prairietopinerc.ca/event/online-bible-study-with-jordan-cantwell/2025-09-10/
LOCATION:Online
CATEGORIES:Community of Faith Events calendar,Events,Regional
END:VEVENT
BEGIN:VEVENT
DTSTART;TZID=America/Winnipeg:20250910T140000
DTEND;TZID=America/Winnipeg:20250910T160000
DTSTAMP:20260424T115249
CREATED:20250822T185423Z
LAST-MODIFIED:20250822T185423Z
UID:10001616-1757512800-1757520000@prairietopinerc.ca
SUMMARY:Seniors Supporting Seniors Through Fun and Learning
DESCRIPTION:Join us for a discussion about the Architectural History of River Heights with presenter Gordon Goldsborough\, Member of MB Historical Society and Writer among many other titles and accomplishments.
URL:https://prairietopinerc.ca/event/seniors-supporting-seniors-through-fun-and-learning/
LOCATION:Westworth United Church\, 1750 Grosvenor Avenue\, Winnipeg\, Manitoba\, R3N 0H9\, Canada
CATEGORIES:Community of Faith Events calendar,Events
ATTACH;FMTTYPE=image/jpeg:https://prairietopinerc.ca/wp-content/uploads/2025/08/Srs-Ad.jpg
ORGANIZER;CN="Westworth Centre":MAILTO:office@westworth.ca
END:VEVENT
BEGIN:VEVENT
DTSTART;TZID=America/Winnipeg:20250910T163000
DTEND;TZID=America/Winnipeg:20250910T183000
DTSTAMP:20260424T115249
CREATED:20250723T202129Z
LAST-MODIFIED:20250723T202129Z
UID:10001611-1757521800-1757529000@prairietopinerc.ca
SUMMARY:Fort Garry United Church Community BBQ
DESCRIPTION:Annual Community BBQ.\nDate: Wednesday\, September 10\, 2025\nTime: 4:30 to 6:30 PM\nLocation: Fort Garry United Church\, 800 Point Road Winnipeg\nThis event is a highlight of our year\, drawing friends and neighbours for an evening of delicious food\, fun activities\, and live music. We offer a full BBQ supper—hot dogs\, salads\, cookies\, and ice cream—for just $5 per person\, making it a popular and well-attended gathering.\nWe are inviting local groups and organizations to host a table at the BBQ. This is a great opportunity to connect with our community\, share information about your programs or services\, and enjoy a warm and welcoming atmosphere.
URL:https://prairietopinerc.ca/event/fort-garry-united-church-community-bbq/
LOCATION:Fort Garry United Church\, 800 Point Rd\, Winnipeg\, MB\, Winnipeg\, Manitoba\, R3T 3L8\, Canada
CATEGORIES:Community of Faith Events calendar,Events
ATTACH;FMTTYPE=image/jpeg:https://prairietopinerc.ca/wp-content/uploads/2025/07/Communtiy-BBQ-Made-with-PosterMyWall-2.jpg
ORGANIZER;CN="Mavis Allison":MAILTO:wasagawomensweekend@gmail.com
END:VEVENT
END:VCALENDAR