BEGIN:VCALENDAR
VERSION:2.0
PRODID:-//Prairie to Pine Regional Council - ECPv6.15.20//NONSGML v1.0//EN
CALSCALE:GREGORIAN
METHOD:PUBLISH
X-WR-CALNAME:Prairie to Pine Regional Council
X-ORIGINAL-URL:https://prairietopinerc.ca
X-WR-CALDESC:Events for Prairie to Pine Regional Council
REFRESH-INTERVAL;VALUE=DURATION:PT1H
X-Robots-Tag:noindex
X-PUBLISHED-TTL:PT1H
BEGIN:VTIMEZONE
TZID:America/Winnipeg
BEGIN:DAYLIGHT
TZOFFSETFROM:-0600
TZOFFSETTO:-0500
TZNAME:CDT
DTSTART:20240310T080000
END:DAYLIGHT
BEGIN:STANDARD
TZOFFSETFROM:-0500
TZOFFSETTO:-0600
TZNAME:CST
DTSTART:20241103T070000
END:STANDARD
BEGIN:DAYLIGHT
TZOFFSETFROM:-0600
TZOFFSETTO:-0500
TZNAME:CDT
DTSTART:20250309T080000
END:DAYLIGHT
BEGIN:STANDARD
TZOFFSETFROM:-0500
TZOFFSETTO:-0600
TZNAME:CST
DTSTART:20251102T070000
END:STANDARD
BEGIN:DAYLIGHT
TZOFFSETFROM:-0600
TZOFFSETTO:-0500
TZNAME:CDT
DTSTART:20260308T080000
END:DAYLIGHT
BEGIN:STANDARD
TZOFFSETFROM:-0500
TZOFFSETTO:-0600
TZNAME:CST
DTSTART:20261101T070000
END:STANDARD
END:VTIMEZONE
BEGIN:VEVENT
DTSTART;TZID=America/Winnipeg:20250611T130000
DTEND;TZID=America/Winnipeg:20250611T160000
DTSTAMP:20260424T151142
CREATED:20250526T225312Z
LAST-MODIFIED:20250527T152920Z
UID:10001582-1749646800-1749657600@prairietopinerc.ca
SUMMARY:Rooster Town Tour Launch
DESCRIPTION:Open house at Harrow United Church to celebrate Métis and Indigenous heritage in our neighbourhood. Explore the medicinal plants in the Healing Garden\, learn the symbolism of our mural and how to make Star Blankets and try the Rooster Town self guided tour by using a QR code to find a map and information.
URL:https://prairietopinerc.ca/event/rooster-town-tour-launch/2025-06-11/1/
LOCATION:Harrow United Church\, 955 Mulvey Avenue\, Winnipeg\, Manitoba\, R3M 1G8\, Canada
CATEGORIES:Community of Faith Events calendar,Events
ATTACH;FMTTYPE=image/jpeg:https://prairietopinerc.ca/wp-content/uploads/2025/05/10D3042F-76DD-4B92-B4C1-EA9D0DABC7C6.jpeg
ORGANIZER;CN="Harrow United Church":MAILTO:secretary@harrowunited.ca
END:VEVENT
BEGIN:VEVENT
DTSTART;TZID=America/Winnipeg:20250611T180000
DTEND;TZID=America/Winnipeg:20250611T200000
DTSTAMP:20260424T151142
CREATED:20250526T225312Z
LAST-MODIFIED:20250527T152920Z
UID:10001583-1749664800-1749672000@prairietopinerc.ca
SUMMARY:Rooster Town Tour Launch
DESCRIPTION:Open house at Harrow United Church to celebrate Métis and Indigenous heritage in our neighbourhood. Explore the medicinal plants in the Healing Garden\, learn the symbolism of our mural and how to make Star Blankets and try the Rooster Town self guided tour by using a QR code to find a map and information.
URL:https://prairietopinerc.ca/event/rooster-town-tour-launch/2025-06-11/2/
LOCATION:Harrow United Church\, 955 Mulvey Avenue\, Winnipeg\, Manitoba\, R3M 1G8\, Canada
CATEGORIES:Community of Faith Events calendar,Events
ATTACH;FMTTYPE=image/jpeg:https://prairietopinerc.ca/wp-content/uploads/2025/05/10D3042F-76DD-4B92-B4C1-EA9D0DABC7C6.jpeg
ORGANIZER;CN="Harrow United Church":MAILTO:secretary@harrowunited.ca
END:VEVENT
BEGIN:VEVENT
DTSTART;TZID=America/Winnipeg:20250611T190000
DTEND;TZID=America/Winnipeg:20250611T200000
DTSTAMP:20260424T151142
CREATED:20250529T203924Z
LAST-MODIFIED:20250529T203924Z
UID:10001585-1749668400-1749672000@prairietopinerc.ca
SUMMARY:Covenanting Service for Diane Meredith
DESCRIPTION:The Covenanting Service for Diane Meredith will be held at Windsor Park United Church on June 11 at 7 pm.  All are welcome!
URL:https://prairietopinerc.ca/event/covenanting-service-for-diane-meredith/
LOCATION:Windsor Park United Church\, 1062 Autumnwood Dr\,\, Winnipeg\, Manitoba\, R2J 1C7\, Canada
CATEGORIES:Community of Faith Events calendar,Events,Regional
END:VEVENT
END:VCALENDAR