BEGIN:VCALENDAR
VERSION:2.0
PRODID:-//Prairie to Pine Regional Council - ECPv6.15.20//NONSGML v1.0//EN
CALSCALE:GREGORIAN
METHOD:PUBLISH
X-ORIGINAL-URL:https://prairietopinerc.ca
X-WR-CALDESC:Events for Prairie to Pine Regional Council
REFRESH-INTERVAL;VALUE=DURATION:PT1H
X-Robots-Tag:noindex
X-PUBLISHED-TTL:PT1H
BEGIN:VTIMEZONE
TZID:America/Winnipeg
BEGIN:DAYLIGHT
TZOFFSETFROM:-0600
TZOFFSETTO:-0500
TZNAME:CDT
DTSTART:20240310T080000
END:DAYLIGHT
BEGIN:STANDARD
TZOFFSETFROM:-0500
TZOFFSETTO:-0600
TZNAME:CST
DTSTART:20241103T070000
END:STANDARD
BEGIN:DAYLIGHT
TZOFFSETFROM:-0600
TZOFFSETTO:-0500
TZNAME:CDT
DTSTART:20250309T080000
END:DAYLIGHT
BEGIN:STANDARD
TZOFFSETFROM:-0500
TZOFFSETTO:-0600
TZNAME:CST
DTSTART:20251102T070000
END:STANDARD
BEGIN:DAYLIGHT
TZOFFSETFROM:-0600
TZOFFSETTO:-0500
TZNAME:CDT
DTSTART:20260308T080000
END:DAYLIGHT
BEGIN:STANDARD
TZOFFSETFROM:-0500
TZOFFSETTO:-0600
TZNAME:CST
DTSTART:20261101T070000
END:STANDARD
END:VTIMEZONE
BEGIN:VEVENT
DTSTART;TZID=America/Winnipeg:20250610T113000
DTEND;TZID=America/Winnipeg:20250610T133000
DTSTAMP:20260424T151352
CREATED:20250409T183201Z
LAST-MODIFIED:20250409T183201Z
UID:10001545-1749555000-1749562200@prairietopinerc.ca
SUMMARY:Pensioners' Gathering
DESCRIPTION:On the 100th Anniversary of the founding of the United Church of Canada\, the Committee on Ministry Personnel Support invites all Ministry Personnel who consider themselves retired and/or who are receiving a United Church Pension along with their partners to gather for a time of fellowship with one another over lunch on June 10\, 2025 (11:30 am to 1:30 pm) at Westworth United Church\, Winnipeg. Further details and registration information will be available later and sent directly to all retired clergy.
URL:https://prairietopinerc.ca/event/pensioners-gathering/
LOCATION:Westworth United Church\, 1750 Grosvenor Avenue\, Winnipeg\, Manitoba\, R3N 0H9\, Canada
CATEGORIES:Events,Regional
END:VEVENT
END:VCALENDAR