BEGIN:VCALENDAR
VERSION:2.0
PRODID:-//Prairie to Pine Regional Council - ECPv6.15.20//NONSGML v1.0//EN
CALSCALE:GREGORIAN
METHOD:PUBLISH
X-WR-CALNAME:Prairie to Pine Regional Council
X-ORIGINAL-URL:https://prairietopinerc.ca
X-WR-CALDESC:Events for Prairie to Pine Regional Council
REFRESH-INTERVAL;VALUE=DURATION:PT1H
X-Robots-Tag:noindex
X-PUBLISHED-TTL:PT1H
BEGIN:VTIMEZONE
TZID:America/Winnipeg
BEGIN:DAYLIGHT
TZOFFSETFROM:-0600
TZOFFSETTO:-0500
TZNAME:CDT
DTSTART:20240310T080000
END:DAYLIGHT
BEGIN:STANDARD
TZOFFSETFROM:-0500
TZOFFSETTO:-0600
TZNAME:CST
DTSTART:20241103T070000
END:STANDARD
BEGIN:DAYLIGHT
TZOFFSETFROM:-0600
TZOFFSETTO:-0500
TZNAME:CDT
DTSTART:20250309T080000
END:DAYLIGHT
BEGIN:STANDARD
TZOFFSETFROM:-0500
TZOFFSETTO:-0600
TZNAME:CST
DTSTART:20251102T070000
END:STANDARD
BEGIN:DAYLIGHT
TZOFFSETFROM:-0600
TZOFFSETTO:-0500
TZNAME:CDT
DTSTART:20260308T080000
END:DAYLIGHT
BEGIN:STANDARD
TZOFFSETFROM:-0500
TZOFFSETTO:-0600
TZNAME:CST
DTSTART:20261101T070000
END:STANDARD
END:VTIMEZONE
BEGIN:VEVENT
DTSTART;TZID=America/Winnipeg:20250507T103000
DTEND;TZID=America/Winnipeg:20250507T163000
DTSTAMP:20260424T181417
CREATED:20250409T182816Z
LAST-MODIFIED:20250409T182816Z
UID:10001544-1746613800-1746635400@prairietopinerc.ca
SUMMARY:Gathering of Active Ministry Personnel and those in Formal Association
DESCRIPTION:The Committee on Ministry Personnel Support invites all active Ministry Personnel (those in appointments\, calls\, other employment\, or in formal association relationships with Communities of Faith) to make plans to attend the annual Regional Council Clergy Day which will happen this year on May 07\, 2025\, in Brandon\, Manitoba.  The theme for the day will be “Sacred Earth\, Sacred Work” – a day for spiritual renewal\, land-based learning\, and exploring conciliation initiatives with Indigenous partners in Treaty Two territory\, which the Anishinaabeg\, the Dakota Oyate\, and the Red River Métis share.  The schedule will include time spent at the Brandon Residential School and Cemetery site\, conversation and teachings from Elders\, and music. For more information about the leadership and the content of the day and to register by April 17\, 2025\, please see this link. The registration form is also available in Word version
URL:https://prairietopinerc.ca/event/gathering-of-active-ministry-personnel-and-those-in-formal-association/
LOCATION:Knox United Church\, Brandon\, 451 - 18th Street\, Brandon\, MB\, R7A 5Y2\, Canada
CATEGORIES:Events,Regional
END:VEVENT
END:VCALENDAR