BEGIN:VCALENDAR
VERSION:2.0
PRODID:-//Prairie to Pine Regional Council - ECPv6.15.20//NONSGML v1.0//EN
CALSCALE:GREGORIAN
METHOD:PUBLISH
X-ORIGINAL-URL:https://prairietopinerc.ca
X-WR-CALDESC:Events for Prairie to Pine Regional Council
REFRESH-INTERVAL;VALUE=DURATION:PT1H
X-Robots-Tag:noindex
X-PUBLISHED-TTL:PT1H
BEGIN:VTIMEZONE
TZID:America/Winnipeg
BEGIN:DAYLIGHT
TZOFFSETFROM:-0600
TZOFFSETTO:-0500
TZNAME:CDT
DTSTART:20230312T080000
END:DAYLIGHT
BEGIN:STANDARD
TZOFFSETFROM:-0500
TZOFFSETTO:-0600
TZNAME:CST
DTSTART:20231105T070000
END:STANDARD
BEGIN:DAYLIGHT
TZOFFSETFROM:-0600
TZOFFSETTO:-0500
TZNAME:CDT
DTSTART:20240310T080000
END:DAYLIGHT
BEGIN:STANDARD
TZOFFSETFROM:-0500
TZOFFSETTO:-0600
TZNAME:CST
DTSTART:20241103T070000
END:STANDARD
BEGIN:DAYLIGHT
TZOFFSETFROM:-0600
TZOFFSETTO:-0500
TZNAME:CDT
DTSTART:20250309T080000
END:DAYLIGHT
BEGIN:STANDARD
TZOFFSETFROM:-0500
TZOFFSETTO:-0600
TZNAME:CST
DTSTART:20251102T070000
END:STANDARD
END:VTIMEZONE
BEGIN:VEVENT
DTSTART;TZID=America/Winnipeg:20241217T190000
DTEND;TZID=America/Winnipeg:20241217T200000
DTSTAMP:20260425T104158
CREATED:20241203T175632Z
LAST-MODIFIED:20241203T175632Z
UID:10001429-1734462000-1734465600@prairietopinerc.ca
SUMMARY:Blue Christmas Service
DESCRIPTION:McClure United Church\,\n533 Greenwood Place\, Winnipeg \nWe hold a Blue Christmas Service to recognize that the world’s Christmas festivities can often seem superficial and trivial to those who have been experiencing loss and sorrow\, or who are struggling with trials in life. We believe that a service is needed that can get us beyond the tinsel and the froth\, one to which we can bring our losses and name them\, in which we can hear deeper words of hope than the world has to offer\, and through which we might bind ourselves more closely to the one from whom we have true tidings of comfort and joy – Emmanuel\, God with us. \nPlease join us all are welcome.
URL:https://prairietopinerc.ca/event/blue-christmas-service-2/
LOCATION:McClure United Church\, 533 Greenwood Pl.\, Winnipeg\, Manitoba\, R3G 3M1\, Canada
CATEGORIES:Community of Faith Events calendar,Events
ATTACH;FMTTYPE=image/jpeg:https://prairietopinerc.ca/wp-content/uploads/2024/12/Blue-Christmas-Service-POSTER-2024_page-0001.jpg
END:VEVENT
END:VCALENDAR