BEGIN:VCALENDAR
VERSION:2.0
PRODID:-//Prairie to Pine Regional Council - ECPv6.15.20//NONSGML v1.0//EN
CALSCALE:GREGORIAN
METHOD:PUBLISH
X-WR-CALNAME:Prairie to Pine Regional Council
X-ORIGINAL-URL:https://prairietopinerc.ca
X-WR-CALDESC:Events for Prairie to Pine Regional Council
REFRESH-INTERVAL;VALUE=DURATION:PT1H
X-Robots-Tag:noindex
X-PUBLISHED-TTL:PT1H
BEGIN:VTIMEZONE
TZID:America/Winnipeg
BEGIN:DAYLIGHT
TZOFFSETFROM:-0600
TZOFFSETTO:-0500
TZNAME:CDT
DTSTART:20230312T080000
END:DAYLIGHT
BEGIN:STANDARD
TZOFFSETFROM:-0500
TZOFFSETTO:-0600
TZNAME:CST
DTSTART:20231105T070000
END:STANDARD
BEGIN:DAYLIGHT
TZOFFSETFROM:-0600
TZOFFSETTO:-0500
TZNAME:CDT
DTSTART:20240310T080000
END:DAYLIGHT
BEGIN:STANDARD
TZOFFSETFROM:-0500
TZOFFSETTO:-0600
TZNAME:CST
DTSTART:20241103T070000
END:STANDARD
BEGIN:DAYLIGHT
TZOFFSETFROM:-0600
TZOFFSETTO:-0500
TZNAME:CDT
DTSTART:20250309T080000
END:DAYLIGHT
BEGIN:STANDARD
TZOFFSETFROM:-0500
TZOFFSETTO:-0600
TZNAME:CST
DTSTART:20251102T070000
END:STANDARD
END:VTIMEZONE
BEGIN:VEVENT
DTSTART;TZID=America/Winnipeg:20241030T190000
DTEND;TZID=America/Winnipeg:20241030T203000
DTSTAMP:20260425T115633
CREATED:20241007T181137Z
LAST-MODIFIED:20241009T183816Z
UID:10001412-1730314800-1730320200@prairietopinerc.ca
SUMMARY:The Affirming process: the good\, the bad\, and the ugly!
DESCRIPTION:Come join the Prairie to Pine Equity and Diversity Committee in its continuing community connection series\, open to all who support 2SLGBTQIA+ Affirming journeys and commitments. We’ll take a deeper look at the process for becoming an Affirming ministry: struggles\, joys\, and strategies. All welcome. \nhttps://united-church.zoom.us/j/87806217155?pwd=9DQtkRJ29mLYejbco7oi68eSn8P3MQ.1\nMeeting ID: 878 0621 7155 Password: 727974        Phone:  855 703 8985 Canada Toll-free
URL:https://prairietopinerc.ca/event/the-affirming-process-the-good-the-bad-and-the-ugly/
LOCATION:Zoom
CATEGORIES:Events,Intercultural,LGBTQIA+ Affirming,Regional
ATTACH;FMTTYPE=image/png:https://prairietopinerc.ca/wp-content/uploads/2024/10/the-affirming-process.png
END:VEVENT
END:VCALENDAR