BEGIN:VCALENDAR
VERSION:2.0
PRODID:-//Prairie to Pine Regional Council - ECPv6.15.20//NONSGML v1.0//EN
CALSCALE:GREGORIAN
METHOD:PUBLISH
X-WR-CALNAME:Prairie to Pine Regional Council
X-ORIGINAL-URL:https://prairietopinerc.ca
X-WR-CALDESC:Events for Prairie to Pine Regional Council
REFRESH-INTERVAL;VALUE=DURATION:PT1H
X-Robots-Tag:noindex
X-PUBLISHED-TTL:PT1H
BEGIN:VTIMEZONE
TZID:America/Winnipeg
BEGIN:DAYLIGHT
TZOFFSETFROM:-0600
TZOFFSETTO:-0500
TZNAME:CDT
DTSTART:20230312T080000
END:DAYLIGHT
BEGIN:STANDARD
TZOFFSETFROM:-0500
TZOFFSETTO:-0600
TZNAME:CST
DTSTART:20231105T070000
END:STANDARD
BEGIN:DAYLIGHT
TZOFFSETFROM:-0600
TZOFFSETTO:-0500
TZNAME:CDT
DTSTART:20240310T080000
END:DAYLIGHT
BEGIN:STANDARD
TZOFFSETFROM:-0500
TZOFFSETTO:-0600
TZNAME:CST
DTSTART:20241103T070000
END:STANDARD
BEGIN:DAYLIGHT
TZOFFSETFROM:-0600
TZOFFSETTO:-0500
TZNAME:CDT
DTSTART:20250309T080000
END:DAYLIGHT
BEGIN:STANDARD
TZOFFSETFROM:-0500
TZOFFSETTO:-0600
TZNAME:CST
DTSTART:20251102T070000
END:STANDARD
END:VTIMEZONE
BEGIN:VEVENT
DTSTART;TZID=America/Winnipeg:20241020T150000
DTEND;TZID=America/Winnipeg:20241020T193000
DTSTAMP:20260425T115631
CREATED:20240917T183040Z
LAST-MODIFIED:20240917T183059Z
UID:10001396-1729436400-1729452600@prairietopinerc.ca
SUMMARY:Food Security Workshop
DESCRIPTION:Learning\, Discussion\, and Supper \nKeynote speaker from U of M\nHuman Nutritional Sciences \nas well as \nFireweed Food Coop\nFood Rescue – Climate Change Connections\nLeftovers Foundation\nFood Grains Bank\n& more
URL:https://prairietopinerc.ca/event/food-security-workshop/
LOCATION:Westworth United Church\, 1750 Grosvenor Avenue\, Winnipeg\, Manitoba\, R3N 0H9\, Canada
CATEGORIES:Community of Faith Events calendar,Events
ATTACH;FMTTYPE=image/jpeg:https://prairietopinerc.ca/wp-content/uploads/2024/09/Food-security.jpg
ORGANIZER;CN="Westworth United Church Outreach Team":MAILTO:office@westworth.ca
END:VEVENT
END:VCALENDAR