BEGIN:VCALENDAR
VERSION:2.0
PRODID:-//Prairie to Pine Regional Council - ECPv6.15.20//NONSGML v1.0//EN
CALSCALE:GREGORIAN
METHOD:PUBLISH
X-WR-CALNAME:Prairie to Pine Regional Council
X-ORIGINAL-URL:https://prairietopinerc.ca
X-WR-CALDESC:Events for Prairie to Pine Regional Council
REFRESH-INTERVAL;VALUE=DURATION:PT1H
X-Robots-Tag:noindex
X-PUBLISHED-TTL:PT1H
BEGIN:VTIMEZONE
TZID:America/Winnipeg
BEGIN:DAYLIGHT
TZOFFSETFROM:-0600
TZOFFSETTO:-0500
TZNAME:CDT
DTSTART:20230312T080000
END:DAYLIGHT
BEGIN:STANDARD
TZOFFSETFROM:-0500
TZOFFSETTO:-0600
TZNAME:CST
DTSTART:20231105T070000
END:STANDARD
BEGIN:DAYLIGHT
TZOFFSETFROM:-0600
TZOFFSETTO:-0500
TZNAME:CDT
DTSTART:20240310T080000
END:DAYLIGHT
BEGIN:STANDARD
TZOFFSETFROM:-0500
TZOFFSETTO:-0600
TZNAME:CST
DTSTART:20241103T070000
END:STANDARD
BEGIN:DAYLIGHT
TZOFFSETFROM:-0600
TZOFFSETTO:-0500
TZNAME:CDT
DTSTART:20250309T080000
END:DAYLIGHT
BEGIN:STANDARD
TZOFFSETFROM:-0500
TZOFFSETTO:-0600
TZNAME:CST
DTSTART:20251102T070000
END:STANDARD
END:VTIMEZONE
BEGIN:VEVENT
DTSTART;TZID=America/Winnipeg:20240927T190000
DTEND;TZID=America/Winnipeg:20240927T210000
DTSTAMP:20260425T132335
CREATED:20240820T135635Z
LAST-MODIFIED:20240820T142341Z
UID:10001383-1727463600-1727470800@prairietopinerc.ca
SUMMARY:Emerging Artists Exhibition & Sale 2024
DESCRIPTION:St. Peter’s Anglican Parish (755 Elm St) is excited to once again be hosting the Emerging Artists Exhibition & Sale! This exciting event takes place September 27 to 29\, 2024. The exhibition is a multi-media event showcasing the work of emerging artists. This year’s participants cover media such as pottery\, acrylic\, jewelry making and needlework. Go to our website https://stpetersanglican.ca for details or contact the parish at 204-488-8093.\n• Friday\, September 27\, 7 to 9 p.m.\n• Saturday\, September 28\, 12 to 4:30 p.m.\n• Sunday\, September 29\, 12 to 3 p.m.
URL:https://prairietopinerc.ca/event/emerging-artists-exhibition-sale-2024/
LOCATION:St. Peter’s Anglican Church\, 755 Elem Street\, Winnipeg\, Manitoba\, R3M 3N8\, Canada
CATEGORIES:Community of Faith Events calendar,Events
ATTACH;FMTTYPE=image/jpeg:https://prairietopinerc.ca/wp-content/uploads/2024/08/DSC_1738.jpeg
ORGANIZER;CN="St. Peter's Anglican Church":MAILTO:administrator@stpetersanglican.ca
END:VEVENT
END:VCALENDAR