BEGIN:VCALENDAR
VERSION:2.0
PRODID:-//Prairie to Pine Regional Council - ECPv6.15.20//NONSGML v1.0//EN
CALSCALE:GREGORIAN
METHOD:PUBLISH
X-ORIGINAL-URL:https://prairietopinerc.ca
X-WR-CALDESC:Events for Prairie to Pine Regional Council
REFRESH-INTERVAL;VALUE=DURATION:PT1H
X-Robots-Tag:noindex
X-PUBLISHED-TTL:PT1H
BEGIN:VTIMEZONE
TZID:America/Winnipeg
BEGIN:DAYLIGHT
TZOFFSETFROM:-0600
TZOFFSETTO:-0500
TZNAME:CDT
DTSTART:20230312T080000
END:DAYLIGHT
BEGIN:STANDARD
TZOFFSETFROM:-0500
TZOFFSETTO:-0600
TZNAME:CST
DTSTART:20231105T070000
END:STANDARD
BEGIN:DAYLIGHT
TZOFFSETFROM:-0600
TZOFFSETTO:-0500
TZNAME:CDT
DTSTART:20240310T080000
END:DAYLIGHT
BEGIN:STANDARD
TZOFFSETFROM:-0500
TZOFFSETTO:-0600
TZNAME:CST
DTSTART:20241103T070000
END:STANDARD
BEGIN:DAYLIGHT
TZOFFSETFROM:-0600
TZOFFSETTO:-0500
TZNAME:CDT
DTSTART:20250309T080000
END:DAYLIGHT
BEGIN:STANDARD
TZOFFSETFROM:-0500
TZOFFSETTO:-0600
TZNAME:CST
DTSTART:20251102T070000
END:STANDARD
END:VTIMEZONE
BEGIN:VEVENT
DTSTART;TZID=America/Winnipeg:20240926T093000
DTEND;TZID=America/Winnipeg:20240926T123000
DTSTAMP:20260425T132329
CREATED:20230823T015149Z
LAST-MODIFIED:20230823T015149Z
UID:10000730-1727343000-1727353800@prairietopinerc.ca
SUMMARY:Committee on Community of Faith Support
DESCRIPTION:The Committee on Community of Faith Support is holding its regular meeting via Zoom every fourth Thursday of the month.
URL:https://prairietopinerc.ca/event/committee-on-community-of-faith-support/2024-09-26/
LOCATION:Manitoba
CATEGORIES:Events,Regional
END:VEVENT
BEGIN:VEVENT
DTSTART;TZID=America/Winnipeg:20240926T100000
DTEND;TZID=America/Winnipeg:20240926T153000
DTSTAMP:20260425T132329
CREATED:20240614T203252Z
LAST-MODIFIED:20240614T203323Z
UID:10001002-1727344800-1727364600@prairietopinerc.ca
SUMMARY:Meet the Neighbors!
DESCRIPTION:Save the Date! You are invited to another wider SW Manitoba United Church Cluster Gathering! All who are interested are invited to gather at Minnedosa United Church. Join us from 10:00 – 3:30 on Thursday\, September 26th for worship\, singing\, conversations and being in Community. More details will come and we are asking your help in spreading this invitation and encouraging people to “Meet the Neighbors”. For more information contact juliechutton@gmail.com and continue to watch your weekly Prairie to Pine newsletters for further details.
URL:https://prairietopinerc.ca/event/meet-the-neighbors/
LOCATION:Minnedosa United Church\, 48 Main St S\, Minnedosa\, Manitoba\, R0J 1E0\, Canada
CATEGORIES:Community of Faith Events calendar,Events,Regional
END:VEVENT
END:VCALENDAR