BEGIN:VCALENDAR
VERSION:2.0
PRODID:-//Prairie to Pine Regional Council - ECPv6.15.20//NONSGML v1.0//EN
CALSCALE:GREGORIAN
METHOD:PUBLISH
X-WR-CALNAME:Prairie to Pine Regional Council
X-ORIGINAL-URL:https://prairietopinerc.ca
X-WR-CALDESC:Events for Prairie to Pine Regional Council
REFRESH-INTERVAL;VALUE=DURATION:PT1H
X-Robots-Tag:noindex
X-PUBLISHED-TTL:PT1H
BEGIN:VTIMEZONE
TZID:America/Winnipeg
BEGIN:DAYLIGHT
TZOFFSETFROM:-0600
TZOFFSETTO:-0500
TZNAME:CDT
DTSTART:20230312T080000
END:DAYLIGHT
BEGIN:STANDARD
TZOFFSETFROM:-0500
TZOFFSETTO:-0600
TZNAME:CST
DTSTART:20231105T070000
END:STANDARD
BEGIN:DAYLIGHT
TZOFFSETFROM:-0600
TZOFFSETTO:-0500
TZNAME:CDT
DTSTART:20240310T080000
END:DAYLIGHT
BEGIN:STANDARD
TZOFFSETFROM:-0500
TZOFFSETTO:-0600
TZNAME:CST
DTSTART:20241103T070000
END:STANDARD
BEGIN:DAYLIGHT
TZOFFSETFROM:-0600
TZOFFSETTO:-0500
TZNAME:CDT
DTSTART:20250309T080000
END:DAYLIGHT
BEGIN:STANDARD
TZOFFSETFROM:-0500
TZOFFSETTO:-0600
TZNAME:CST
DTSTART:20251102T070000
END:STANDARD
END:VTIMEZONE
BEGIN:VEVENT
DTSTART;TZID=America/Winnipeg:20240925T123000
DTEND;TZID=America/Winnipeg:20240925T133000
DTSTAMP:20260425T132335
CREATED:20240910T015437Z
LAST-MODIFIED:20240910T015527Z
UID:10001394-1727267400-1727271000@prairietopinerc.ca
SUMMARY:Brown Tom's Schooldays
DESCRIPTION:A talk at the University of Winnipeg launching Brown Tom’s Schooldays\, the story of a young boy’s life at Residential School drawing from Reverend Enos Montour’s first-hand experiences at Mount Elgin Indian Residential School between 1910 and 1915. \nThis re-issue of the book by the University of Manitoba Press puts Brown Tom’s Schooldays in the contexts of the histories of Indigenous communities surrounding the school\, Indigenous publishing\, Mount Elgin\, and the United Church of Canada. \nThe University of Manitoba Press will host a display of books on Indigenous history and Residential Schools outside the Hall.
URL:https://prairietopinerc.ca/event/brown-toms-schooldays/
LOCATION:University of Winnipeg\, 515 Portage Avenue\, Winnipeg\, Manitoba\, Canada
CATEGORIES:Community of Faith Events calendar,Events,Intercultural,Right Relations
END:VEVENT
BEGIN:VEVENT
DTSTART;TZID=America/Winnipeg:20240925T163000
DTEND;TZID=America/Winnipeg:20240925T183000
DTSTAMP:20260425T132335
CREATED:20240906T004011Z
LAST-MODIFIED:20240906T004011Z
UID:10001393-1727281800-1727289000@prairietopinerc.ca
SUMMARY:"Baron of Beef Supper" at Trinity United Church (Brandon\, MB)
DESCRIPTION:Trinity United Church (Brandon) will be having the “Baron of Beef Supper” on September 25\, 2024\, from 4:30 – 6:30 PM. \nTickets are available on Sundays at Trinity United Church Office. Only 200 tickets sold. \nAdults: $25; Children 6-12: $10; Under 6: FREE
URL:https://prairietopinerc.ca/event/baron-of-beef-supper-at-trinity-united-church-brandon-mb/
LOCATION:Trinity United Church-Brandon\, 1515-6th Street\, Brandon\, Manitoba\, R7A 6B3\, Canada
CATEGORIES:Community of Faith Events calendar,Events
ATTACH;FMTTYPE=image/png:https://prairietopinerc.ca/wp-content/uploads/2024/09/Beef-Supper-2024-Poster.png
END:VEVENT
END:VCALENDAR