BEGIN:VCALENDAR
VERSION:2.0
PRODID:-//Prairie to Pine Regional Council - ECPv6.15.20//NONSGML v1.0//EN
CALSCALE:GREGORIAN
METHOD:PUBLISH
X-WR-CALNAME:Prairie to Pine Regional Council
X-ORIGINAL-URL:https://prairietopinerc.ca
X-WR-CALDESC:Events for Prairie to Pine Regional Council
REFRESH-INTERVAL;VALUE=DURATION:PT1H
X-Robots-Tag:noindex
X-PUBLISHED-TTL:PT1H
BEGIN:VTIMEZONE
TZID:America/Winnipeg
BEGIN:DAYLIGHT
TZOFFSETFROM:-0600
TZOFFSETTO:-0500
TZNAME:CDT
DTSTART:20230312T080000
END:DAYLIGHT
BEGIN:STANDARD
TZOFFSETFROM:-0500
TZOFFSETTO:-0600
TZNAME:CST
DTSTART:20231105T070000
END:STANDARD
BEGIN:DAYLIGHT
TZOFFSETFROM:-0600
TZOFFSETTO:-0500
TZNAME:CDT
DTSTART:20240310T080000
END:DAYLIGHT
BEGIN:STANDARD
TZOFFSETFROM:-0500
TZOFFSETTO:-0600
TZNAME:CST
DTSTART:20241103T070000
END:STANDARD
BEGIN:DAYLIGHT
TZOFFSETFROM:-0600
TZOFFSETTO:-0500
TZNAME:CDT
DTSTART:20250309T080000
END:DAYLIGHT
BEGIN:STANDARD
TZOFFSETFROM:-0500
TZOFFSETTO:-0600
TZNAME:CST
DTSTART:20251102T070000
END:STANDARD
END:VTIMEZONE
BEGIN:VEVENT
DTSTART;TZID=America/Winnipeg:20240812T083000
DTEND;TZID=America/Winnipeg:20240816T170000
DTSTAMP:20260425T115631
CREATED:20240605T150635Z
LAST-MODIFIED:20240605T150635Z
UID:10000996-1723451400-1723827600@prairietopinerc.ca
SUMMARY:Camp Meadowood: Rolling River Rampage
DESCRIPTION:Are you ready for the ride of your life? Get ready for an incredible adventure with Camp Meadowood’s “Rolling River Rampage” from August 12th to August 16th! \nRolling River Rampage invites Rafters of all ages on a white-water rafting adventure to experience the ride of a lifetime with God! Along the river\, Rafters discover that life with God is an adventure full of wonder and surprise\, and they can trust God to be with them through anything. Together\, we’ll do fun crafts\, incredible science experiments\, outdoor games\, music and much more! \nClick here for more information and how to register.
URL:https://prairietopinerc.ca/event/camp-meadowood-rolling-river-rampage/
LOCATION:United Church in Meadowood\, 1111 Dakota St\, Winnipeg\, MB\, R2N3T7\, Canada
CATEGORIES:Community of Faith Events calendar,Events
ATTACH;FMTTYPE=image/jpeg:https://prairietopinerc.ca/wp-content/uploads/2024/06/Camp-Meadowood-2024-Registration-FB-.jpg
END:VEVENT
END:VCALENDAR