BEGIN:VCALENDAR
VERSION:2.0
PRODID:-//Prairie to Pine Regional Council - ECPv6.15.20//NONSGML v1.0//EN
CALSCALE:GREGORIAN
METHOD:PUBLISH
X-WR-CALNAME:Prairie to Pine Regional Council
X-ORIGINAL-URL:https://prairietopinerc.ca
X-WR-CALDESC:Events for Prairie to Pine Regional Council
REFRESH-INTERVAL;VALUE=DURATION:PT1H
X-Robots-Tag:noindex
X-PUBLISHED-TTL:PT1H
BEGIN:VTIMEZONE
TZID:America/Winnipeg
BEGIN:DAYLIGHT
TZOFFSETFROM:-0600
TZOFFSETTO:-0500
TZNAME:CDT
DTSTART:20230312T080000
END:DAYLIGHT
BEGIN:STANDARD
TZOFFSETFROM:-0500
TZOFFSETTO:-0600
TZNAME:CST
DTSTART:20231105T070000
END:STANDARD
BEGIN:DAYLIGHT
TZOFFSETFROM:-0600
TZOFFSETTO:-0500
TZNAME:CDT
DTSTART:20240310T080000
END:DAYLIGHT
BEGIN:STANDARD
TZOFFSETFROM:-0500
TZOFFSETTO:-0600
TZNAME:CST
DTSTART:20241103T070000
END:STANDARD
BEGIN:DAYLIGHT
TZOFFSETFROM:-0600
TZOFFSETTO:-0500
TZNAME:CDT
DTSTART:20250309T080000
END:DAYLIGHT
BEGIN:STANDARD
TZOFFSETFROM:-0500
TZOFFSETTO:-0600
TZNAME:CST
DTSTART:20251102T070000
END:STANDARD
END:VTIMEZONE
BEGIN:VEVENT
DTSTART;TZID=America/Winnipeg:20240625T190000
DTEND;TZID=America/Winnipeg:20240625T203000
DTSTAMP:20260425T220616
CREATED:20240521T200027Z
LAST-MODIFIED:20240521T200401Z
UID:10000989-1719342000-1719347400@prairietopinerc.ca
SUMMARY:Town Hall on connecting and community in the Region
DESCRIPTION:Tuesday June 25\, 2024 at 7:00 PM CDT. \nAll delegates and people of the Regional Council are invited to this conversation on how we connect with each other across the Region and in our areas. Locally\, regionally\, nationally\, and online there are opportunities to gather with others to learn and discuss important topics. However\, we have heard that something is missing. Our question to you is: What is missing from the events and opportunities currently available? What would you give time to plan or participate in? \nWe’ll also discuss: How do we balance the need to reduce our carbon footprint and our need to gather in-person; how can we gather in accessible ways?;  in the past\, when face-to-face gatherings have been planned and the gathering is expressly for that reason\, attendance is low. Therefore\, beyond the desire to get together\, what other reasons would make it worth your time to get together? \nhttps://united-church.zoom.us/j/87897711680?pwd=fVfWdS484twzZw3AEU51SzEW322nyG.1 \nMeeting ID: 878 9771 1680         Password: 683634        855 703 8985 Canada Toll-free
URL:https://prairietopinerc.ca/event/town-hall-on-connecting-and-community-in-the-region/
LOCATION:Zoom
CATEGORIES:Regional
ATTACH;FMTTYPE=image/jpeg:https://prairietopinerc.ca/wp-content/uploads/2020/03/Canva-CuppedHands-Holding-Lit-Candle-Photo-by-Myriams-Fotos-scaled-e1584741872258.jpg
END:VEVENT
END:VCALENDAR