BEGIN:VCALENDAR
VERSION:2.0
PRODID:-//Prairie to Pine Regional Council - ECPv6.15.20//NONSGML v1.0//EN
CALSCALE:GREGORIAN
METHOD:PUBLISH
X-WR-CALNAME:Prairie to Pine Regional Council
X-ORIGINAL-URL:https://prairietopinerc.ca
X-WR-CALDESC:Events for Prairie to Pine Regional Council
REFRESH-INTERVAL;VALUE=DURATION:PT1H
X-Robots-Tag:noindex
X-PUBLISHED-TTL:PT1H
BEGIN:VTIMEZONE
TZID:America/Winnipeg
BEGIN:DAYLIGHT
TZOFFSETFROM:-0600
TZOFFSETTO:-0500
TZNAME:CDT
DTSTART:20230312T080000
END:DAYLIGHT
BEGIN:STANDARD
TZOFFSETFROM:-0500
TZOFFSETTO:-0600
TZNAME:CST
DTSTART:20231105T070000
END:STANDARD
BEGIN:DAYLIGHT
TZOFFSETFROM:-0600
TZOFFSETTO:-0500
TZNAME:CDT
DTSTART:20240310T080000
END:DAYLIGHT
BEGIN:STANDARD
TZOFFSETFROM:-0500
TZOFFSETTO:-0600
TZNAME:CST
DTSTART:20241103T070000
END:STANDARD
BEGIN:DAYLIGHT
TZOFFSETFROM:-0600
TZOFFSETTO:-0500
TZNAME:CDT
DTSTART:20250309T080000
END:DAYLIGHT
BEGIN:STANDARD
TZOFFSETFROM:-0500
TZOFFSETTO:-0600
TZNAME:CST
DTSTART:20251102T070000
END:STANDARD
END:VTIMEZONE
BEGIN:VEVENT
DTSTART;TZID=America/Winnipeg:20240620T110000
DTEND;TZID=America/Winnipeg:20240620T130000
DTSTAMP:20260425T220619
CREATED:20240528T214825Z
LAST-MODIFIED:20240528T214825Z
UID:10000994-1718881200-1718888400@prairietopinerc.ca
SUMMARY:Cluster Gathering of Ministry Personnel (former Selkirk Presbytery)
DESCRIPTION:A cluster of Ministry Personnel who have had connections with the former Selkirk Presbytery is gathering on Thursday\, June 20\, 2024 at Little Britain United Church\, beginning at 11:00 and ending with a pot-luck lunch. This is an opportunity to check-in with one another and enjoy a meal together. If there are any Ministry Personnel within the larger Region who have not been part of this cluster\, and who would like to attend\, you would be most welcome.  Little Britain is about 3 kms north of Lockport on Hwy #9.  Please RSVP to Beth McLean at ebethmcl@mymts.net  to help with planning.
URL:https://prairietopinerc.ca/event/cluster-gathering-of-ministry-personnel-former-selkirk-presbytery/
LOCATION:Little Britain United Church\, 5879 Highway 9 - Lockport\, MB\, MB\, R1A 2P7\, Canada
CATEGORIES:Community of Faith Events calendar,Events
END:VEVENT
END:VCALENDAR