BEGIN:VCALENDAR
VERSION:2.0
PRODID:-//Prairie to Pine Regional Council - ECPv6.15.20//NONSGML v1.0//EN
CALSCALE:GREGORIAN
METHOD:PUBLISH
X-WR-CALNAME:Prairie to Pine Regional Council
X-ORIGINAL-URL:https://prairietopinerc.ca
X-WR-CALDESC:Events for Prairie to Pine Regional Council
REFRESH-INTERVAL;VALUE=DURATION:PT1H
X-Robots-Tag:noindex
X-PUBLISHED-TTL:PT1H
BEGIN:VTIMEZONE
TZID:America/Winnipeg
BEGIN:DAYLIGHT
TZOFFSETFROM:-0600
TZOFFSETTO:-0500
TZNAME:CDT
DTSTART:20230312T080000
END:DAYLIGHT
BEGIN:STANDARD
TZOFFSETFROM:-0500
TZOFFSETTO:-0600
TZNAME:CST
DTSTART:20231105T070000
END:STANDARD
BEGIN:DAYLIGHT
TZOFFSETFROM:-0600
TZOFFSETTO:-0500
TZNAME:CDT
DTSTART:20240310T080000
END:DAYLIGHT
BEGIN:STANDARD
TZOFFSETFROM:-0500
TZOFFSETTO:-0600
TZNAME:CST
DTSTART:20241103T070000
END:STANDARD
BEGIN:DAYLIGHT
TZOFFSETFROM:-0600
TZOFFSETTO:-0500
TZNAME:CDT
DTSTART:20250309T080000
END:DAYLIGHT
BEGIN:STANDARD
TZOFFSETFROM:-0500
TZOFFSETTO:-0600
TZNAME:CST
DTSTART:20251102T070000
END:STANDARD
END:VTIMEZONE
BEGIN:VEVENT
DTSTART;TZID=America/Winnipeg:20240612T190000
DTEND;TZID=America/Winnipeg:20240612T203000
DTSTAMP:20260425T220616
CREATED:20240605T183005Z
LAST-MODIFIED:20240605T183005Z
UID:10001000-1718218800-1718224200@prairietopinerc.ca
SUMMARY:Training for Pastoral Care Visitors
DESCRIPTION:On Wednesday evening\, June 12 at 7:00 p.m. those interested in training for Pastoral Care Visitors in Communities of Faith/Pastoral Charges are invited to gather by ZOOM with Rob Reed\, the Minister at Transcona Memorial United Church\, and Judy Hare\, Pastoral Relations Minister \, for an initial conversation about the potential content and timing of training. The ZOOM link has been sent to those who expressed interest previously. Others interested should contact Cherry Abad  to get the ZOOM link  at cabad@united-church.ca
URL:https://prairietopinerc.ca/event/training-for-pastoral-care-visitors/
LOCATION:Zoom
CATEGORIES:Events,Regional
END:VEVENT
END:VCALENDAR