BEGIN:VCALENDAR
VERSION:2.0
PRODID:-//Prairie to Pine Regional Council - ECPv6.15.20//NONSGML v1.0//EN
CALSCALE:GREGORIAN
METHOD:PUBLISH
X-ORIGINAL-URL:https://prairietopinerc.ca
X-WR-CALDESC:Events for Prairie to Pine Regional Council
REFRESH-INTERVAL;VALUE=DURATION:PT1H
X-Robots-Tag:noindex
X-PUBLISHED-TTL:PT1H
BEGIN:VTIMEZONE
TZID:America/Winnipeg
BEGIN:DAYLIGHT
TZOFFSETFROM:-0600
TZOFFSETTO:-0500
TZNAME:CDT
DTSTART:20230312T080000
END:DAYLIGHT
BEGIN:STANDARD
TZOFFSETFROM:-0500
TZOFFSETTO:-0600
TZNAME:CST
DTSTART:20231105T070000
END:STANDARD
BEGIN:DAYLIGHT
TZOFFSETFROM:-0600
TZOFFSETTO:-0500
TZNAME:CDT
DTSTART:20240310T080000
END:DAYLIGHT
BEGIN:STANDARD
TZOFFSETFROM:-0500
TZOFFSETTO:-0600
TZNAME:CST
DTSTART:20241103T070000
END:STANDARD
BEGIN:DAYLIGHT
TZOFFSETFROM:-0600
TZOFFSETTO:-0500
TZNAME:CDT
DTSTART:20250309T080000
END:DAYLIGHT
BEGIN:STANDARD
TZOFFSETFROM:-0500
TZOFFSETTO:-0600
TZNAME:CST
DTSTART:20251102T070000
END:STANDARD
END:VTIMEZONE
BEGIN:VEVENT
DTSTART;TZID=America/Winnipeg:20240531T173000
DTEND;TZID=America/Winnipeg:20240602T140000
DTSTAMP:20260425T220606
CREATED:20240109T004506Z
LAST-MODIFIED:20240412T183212Z
UID:10000907-1717176600-1717336800@prairietopinerc.ca
SUMMARY:Wasaga Women's Weekend-May 31 to June 2\, 2024
DESCRIPTION:Come join us for a wonderful weekend of fun and friends. It’s a women only weekend that we look forward to all year. We will have a real chef cook for us – chef Derek!
URL:https://prairietopinerc.ca/event/wasaga-womens-weekend-3/
LOCATION:Manitoba
CATEGORIES:Community of Faith Events calendar,Events
ATTACH;FMTTYPE=application/pdf:https://prairietopinerc.ca/wp-content/uploads/2024/01/Wasaga-Womens-Weekend-Poster-2024.pdf
END:VEVENT
BEGIN:VEVENT
DTSTART;VALUE=DATE:20240602
DTEND;VALUE=DATE:20240603
DTSTAMP:20260425T220606
CREATED:20240508T022811Z
LAST-MODIFIED:20240528T013406Z
UID:10000986-1717286400-1717372799@prairietopinerc.ca
SUMMARY:Pride Parade 2024-June 2nd
DESCRIPTION:UCC at Pride Parade this Sunday\, June 2nd – details \nWalkers are officially asked to arrive by 10:00 (but from past experience\, as long as you find us by the time the parade starts moving at 11:00\, you can still join in).  We entered a “float” followed by walkers this year\, so we will be in row C – which is the southbound median lane of Memorial Blvd. Look for a truck (a white Ford F150 that may be painted bright colours) that will have a “United Church of Canada – Affirming Ministries” sign on top. \nCall Abbey at (204) 230-7046 if you can’t find us. \nDress for the weather and don’t forget your rainbow attire & maybe some candy to hand out!! \n 
URL:https://prairietopinerc.ca/event/pride-parade-2024/
LOCATION:Manitoba Legislative Building\, 450 Broadway\, Winnipeg\, Manitoba\, R3C 0V8\, Canada
CATEGORIES:Events,Regional
ATTACH;FMTTYPE=image/jpeg:https://prairietopinerc.ca/wp-content/uploads/2024/05/Wpg-Pride-Parade-scaled.jpg
END:VEVENT
BEGIN:VEVENT
DTSTART;TZID=America/Winnipeg:20240602T110000
DTEND;TZID=America/Winnipeg:20240602T120000
DTSTAMP:20260425T220606
CREATED:20240419T174952Z
LAST-MODIFIED:20240419T174952Z
UID:10000966-1717326000-1717329600@prairietopinerc.ca
SUMMARY:Summer Sunday Services at West Hawk Lake UC begins May 19th
DESCRIPTION:We are pleased to announce that the Summer Worship Service at West Hawk United Church will held at 11:00 am every Sunday until at least the September long weekend. (RC Chapel once again will be held on Sundays at 9 am.) \nA variety of supply ministers and lay leadership will attend each service. The Steering Committee is also receptive to making facilities available for other appropriate uses and gatherings such as weddings\, funerals\, family gatherings\, retreats\, \nFor more info contact Mike Balshaw: westhawk.unitedchurch@gmail.com
URL:https://prairietopinerc.ca/event/summer-sunday-services-at-west-hawk-lake-uc-begins-may-19th/2024-06-02/
LOCATION:West Hawk Lake United Church\, Provincial Trunk Hwy 44\, Whiteshell\, Manitoba\, R0E 2H0\, Canada
CATEGORIES:Community of Faith Events calendar,Events
END:VEVENT
END:VCALENDAR