BEGIN:VCALENDAR
VERSION:2.0
PRODID:-//Prairie to Pine Regional Council - ECPv6.15.20//NONSGML v1.0//EN
CALSCALE:GREGORIAN
METHOD:PUBLISH
X-ORIGINAL-URL:https://prairietopinerc.ca
X-WR-CALDESC:Events for Prairie to Pine Regional Council
REFRESH-INTERVAL;VALUE=DURATION:PT1H
X-Robots-Tag:noindex
X-PUBLISHED-TTL:PT1H
BEGIN:VTIMEZONE
TZID:America/Winnipeg
BEGIN:DAYLIGHT
TZOFFSETFROM:-0600
TZOFFSETTO:-0500
TZNAME:CDT
DTSTART:20230312T080000
END:DAYLIGHT
BEGIN:STANDARD
TZOFFSETFROM:-0500
TZOFFSETTO:-0600
TZNAME:CST
DTSTART:20231105T070000
END:STANDARD
BEGIN:DAYLIGHT
TZOFFSETFROM:-0600
TZOFFSETTO:-0500
TZNAME:CDT
DTSTART:20240310T080000
END:DAYLIGHT
BEGIN:STANDARD
TZOFFSETFROM:-0500
TZOFFSETTO:-0600
TZNAME:CST
DTSTART:20241103T070000
END:STANDARD
BEGIN:DAYLIGHT
TZOFFSETFROM:-0600
TZOFFSETTO:-0500
TZNAME:CDT
DTSTART:20250309T080000
END:DAYLIGHT
BEGIN:STANDARD
TZOFFSETFROM:-0500
TZOFFSETTO:-0600
TZNAME:CST
DTSTART:20251102T070000
END:STANDARD
END:VTIMEZONE
BEGIN:VEVENT
DTSTART;TZID=America/Winnipeg:20240529T193000
DTEND;TZID=America/Winnipeg:20240529T193000
DTSTAMP:20260425T220604
CREATED:20240507T234852Z
LAST-MODIFIED:20240508T002310Z
UID:10000984-1717011000-1717011000@prairietopinerc.ca
SUMMARY:The United Church at 100: Centennial planning workshop
DESCRIPTION:Wednesday 29 May 2024\,  7:30PM CDT\nThe United Church turns 100 in June 2025! Join our Regional archivists\, Leanne Templeton and Erin Acland\, and other resource people\, and we’ll look at resources for creatively commemorating this anniversary in your context. We’ll talk about local\, Regional\, and national ideas together- both the celebrations\, and the anniversary opportunity to look at where we’ve been as a church\, and where the future might take us. Come with your ideas and questions\, and be ready to bring some ideas back to your community and ministry! Have a look at the new Centennial website\, too\, and sign up for the newsletter.\nZoom info: \nhttps://united-church.zoom.us/j/86218269850?pwd=lCZejc0bMvaHbGpPNjVK6zabthRDaw.1 \nMeeting ID: 862 1826 9850         Password: 507752          1 855 703 8985 Canada Toll-free
URL:https://prairietopinerc.ca/event/the-united-church-at-100-centennial-planning-workshop/
LOCATION:Zoom
CATEGORIES:100th Anniversary of the UCC,Regional
ATTACH;FMTTYPE=image/png:https://prairietopinerc.ca/wp-content/uploads/2024/05/EN_Centennial_logo_w_dates.png
END:VEVENT
END:VCALENDAR